BEGIN:VCALENDAR
VERSION:2.0
PRODID:-//Tukios.com/
BEGIN:VEVENT
UID:d1b4365b-2121-447e-bc40-5f54d0c4ca56@www.blackstonefuneralhome.com
DTSTAMP:20260421T204521Z
DTSTART:20260426T180000Z
DTEND:20260426T200000Z
SUMMARY:Visitation
DESCRIPTION:
URL:https://www.blackstonefuneralhome.com/obituaries/craig-smith
LOCATION: 672 Churchill Rd  Girard OH 44420
GEO:41.1625335;-80.6863499
END:VEVENT
END:VCALENDAR