BEGIN:VCALENDAR
VERSION:2.0
PRODID:-//Tukios.com/
BEGIN:VEVENT
UID:a17b5c21-c543-41fd-b3e2-ee0e9b9f6266@www.blackstonefuneralhome.com
DTSTAMP:20260421T204324Z
DTSTART:20260426T200000Z
DTEND:20260426T210000Z
SUMMARY:Funeral Service
DESCRIPTION:
URL:https://www.blackstonefuneralhome.com/obituaries/craig-smith
LOCATION: 672 Churchill Rd  Girard OH 44420
GEO:41.1625335;-80.6863499
END:VEVENT
END:VCALENDAR