BEGIN:VCALENDAR
VERSION:2.0
PRODID:-//Tukios.com/
BEGIN:VEVENT
UID:467d29fc-436f-41ac-b3cb-286808a21c34@www.blackstonefuneralhome.com
DTSTAMP:20260424T214300Z
DTSTART:20260429T210000Z
DTEND:20260429T230000Z
SUMMARY:Visitation
DESCRIPTION:
URL:https://www.blackstonefuneralhome.com/obituaries/mary-swanson
LOCATION:Blackstone Funeral Home  672 Churchill Road  Girard OH 44420
GEO:41.1625335;-80.6863499
END:VEVENT
END:VCALENDAR