BEGIN:VCALENDAR
VERSION:2.0
PRODID:-//Tukios.com/
BEGIN:VEVENT
UID:93747eb0-9e68-494f-aa7a-a70998f33b41@www.blackstonefuneralhome.com
DTSTAMP:20260424T214904Z
DTSTART:20260430T140000Z
DTEND:20260430T150000Z
SUMMARY:Funeral Service
DESCRIPTION:
URL:https://www.blackstonefuneralhome.com/obituaries/mary-swanson
LOCATION:New Life Lutheran Church 1181 Churchill Hubbard Road  Youngstown 
	OH 44505
GEO:41.1619303;-80.6445612
END:VEVENT
END:VCALENDAR