BEGIN:VCALENDAR
VERSION:2.0
PRODID:-//Tukios.com/
BEGIN:VEVENT
UID:8386b827-790c-407a-8e85-6734f7e20eda@www.blackstonefuneralhome.com
DTSTAMP:20260420T192541Z
DTSTART:20260422T170000Z
DTEND:20260422T180000Z
SUMMARY:Visitation
DESCRIPTION:
URL:https://www.blackstonefuneralhome.com/obituaries/michael-shea
LOCATION:Blackstone Funeral Home  672 Churchill Road  Girard OH 44420
GEO:41.1625335;-80.6863499
END:VEVENT
END:VCALENDAR