BEGIN:VCALENDAR
VERSION:2.0
PRODID:-//Tukios.com/
BEGIN:VEVENT
UID:6e85bef9-82d6-42b6-a852-9a05509cd3f5@www.blackstonefuneralhome.com
DTSTAMP:20260420T192551Z
DTSTART:20260422T180000Z
DTEND:20260422T190000Z
SUMMARY:Memorial Service
DESCRIPTION:
URL:https://www.blackstonefuneralhome.com/obituaries/michael-shea
LOCATION:Blackstone Funeral Home  672 Churchill Road  Girard OH 44420
GEO:41.1625335;-80.6863499
END:VEVENT
END:VCALENDAR